BEGIN:VCALENDAR
VERSION:2.0
PRODID:-//efiportal.hu - ECPv4.6.16//NONSGML v1.0//EN
CALSCALE:GREGORIAN
METHOD:PUBLISH
X-WR-CALNAME:efiportal.hu
X-ORIGINAL-URL:
X-WR-CALDESC:Events for efiportal.hu
BEGIN:VEVENT
DTSTART;TZID=Europe/Budapest:20190311T190000
DTEND;TZID=Europe/Budapest:20190311T190000
DTSTAMP:20260419T112903
CREATED:20190220T103206Z
LAST-MODIFIED:20190220T103206Z
UID:25308-1552327200-1552327200@
SUMMARY:Haverok\, buli\, Bon-Bon – Musical jelnyelvi tolmácsolással
DESCRIPTION:Ha szereti a zenés\, táncos\, pörgős és szerelmi bonyodalmakkal teli előadásokat bátran ajánljuk a HADART Színház új musicaljét jelnyelvi tolmácsolással. Jelnyelvi tolmács: Takács Erika. \nSzíndarab rövid bemutatása\nMiért áll le az énekes a koncert közepén\, kit hív fel a színpadra\, és miért térdel le előtte? Ez már az elején kiderül\, de csak azért\, hogy utána egyre furcsább és meglepőbb legyen minden. A barátok legénybúcsút\, a barátnők lánybúcsút szerveznek titokban. A dolgok bonyolódnak\, a hazugságok szaporodnak\, az érzések elszabadulnak. A néző sejti és nevet\, a szereplők még nem sejtik és tovább kavarják.\nKözben persze megszólalnak az elmúlt húsz év legnagyobb Bon-Bon slágerei. A történet vége pedig egy egészen furcsán induló buli\, ami végül fergeteges fináléba torkollik\, ahol minden és mindenki a helyére kerül. \nJegyek\nKedvezményes jegyeket az alábbi elérhetőségeken lehet rendelni: \n\nnota.signum@gmail.com\nzsigmondreka@hadartszinhaz.hu\n\n
URL:/rendezveny/haverok-buli-bon-bon-musical-jelnyelvi-tolmacsolassal/
LOCATION:Jókai utca 6.\, Budapest\, Budapest\, 1066\, Magyarország
CATEGORIES:színház
END:VEVENT
END:VCALENDAR