BEGIN:VCALENDAR
VERSION:2.0
PRODID:-//efiportal.hu - ECPv4.6.16//NONSGML v1.0//EN
CALSCALE:GREGORIAN
METHOD:PUBLISH
X-WR-CALNAME:efiportal.hu
X-ORIGINAL-URL:
X-WR-CALDESC:Events for efiportal.hu
BEGIN:VEVENT
DTSTART;VALUE=DATE:20180811
DTEND;VALUE=DATE:20180812
DTSTAMP:20260419T153358
CREATED:20180803T125719Z
LAST-MODIFIED:20180803T125719Z
UID:7815-1533938400-1534024799@
SUMMARY:Eszterházy Barokk ételfőző fesztivál Fertődön
DESCRIPTION:Idén hatodjára rendezik meg az ételfőző fesztivált Fertődön az Esterházy kastéllyal szemben\, a Gránátos házak közötti sétányon. Cél a hagyományteremtés\, a barokk kor szépségének\, gasztronómiájának\, feledésbe merülő ízeinek megőrzése. \nA versenyző két kategória közül választhat: \n\nAz ÚRI konyha ételeinek elkészítése\, tálalása az adott kor kulináris élvezetei szerint.\nA XVII. században kialakuló CSÁRDAKONYHA ételeinek bemutatása nemzeti értékünk népszerűsítésével\, mai magyar nyersanyagok felhasználásával.\n\nNem titkolt célunk\, hogy e korabeli időutazás alkalmából mintegy megidézve e kor szellemének ízvilágát – szokásait – pompáját felejthetetlen élményt adjunk át a mai kor felgyorsult életet élő emberének. Az étkezés egyike az élet azon örömeinek\, amelykor valamennyi érzékszervünket kényeztetjük. Erre a nagyszerű kulináris játékra invitáljuk Önöket\, hasonlítsuk össze\, ki tudja jobban a barokk kor íz világával elkápráztatni a mai kor emberét. \nA versennyel kapcsolatos bővebb információ\, versenykiírás\, jelentkezési lap elérhető a fertődi polgármesteri hivatal honlapján is: http://www.fertod.hu/ \n
URL:/rendezveny/eszterhazy-barokk-etelfozo-fesztival-fertodon/
CATEGORIES:fesztivál
END:VEVENT
END:VCALENDAR