BEGIN:VCALENDAR
VERSION:2.0
PRODID:-//efiportal.hu - ECPv4.6.16//NONSGML v1.0//EN
CALSCALE:GREGORIAN
METHOD:PUBLISH
X-WR-CALNAME:efiportal.hu
X-ORIGINAL-URL:
X-WR-CALDESC:Events for efiportal.hu
BEGIN:VEVENT
DTSTART;TZID=Europe/Budapest:20211127T150000
DTEND;TZID=Europe/Budapest:20211127T150000
DTSTAMP:20260419T170928
CREATED:20211116T090001Z
LAST-MODIFIED:20211116T090001Z
UID:291646-1638021600-1638021600@
SUMMARY:Egy fekete komédia jelnyelvi tolmácsolással a Szegedi Nemzeti Színház Kisszínházában
DESCRIPTION:A Szegedi Nemzeti Színház Kisszínházában 2021. november 27-én 15 órától egy fekete komédiát láthatnak az érdeklődők jelnyelvi tolmácsolással. Martin McDonagh: Nagyon\, nagyon\, nagyon sötét dolog című darabját 16 éven felülieknek ajánlják. \nKedvezményes jegyek korlátozott számban állnak rendelkezésre\, amelyekre 2021.11.24-ig lehet jelentkezni. \nTovábbi részletek az esemény honlapján olvashatók. \nA közlemény tartalmáért a SZIN Nonprofit Kft. felelősséget nem vállal. \n
URL:/rendezveny/egy-fekete-komedia-jelnyelvi-tolmacsolassal-a-szegedi-nemzeti-szinhaz-kisszinhazaban/
CATEGORIES:színház
END:VEVENT
END:VCALENDAR