BEGIN:VCALENDAR
VERSION:2.0
PRODID:-//efiportal.hu - ECPv4.6.16//NONSGML v1.0//EN
CALSCALE:GREGORIAN
METHOD:PUBLISH
X-WR-CALNAME:efiportal.hu
X-ORIGINAL-URL:
X-WR-CALDESC:Events for efiportal.hu
BEGIN:VEVENT
DTSTART;TZID=Europe/Budapest:20211203T083000
DTEND;TZID=Europe/Budapest:20211203T093000
DTSTAMP:20260419T150748
CREATED:20211202T155447Z
LAST-MODIFIED:20211202T155447Z
UID:295577-1638516600-1638520200@
SUMMARY:A fogyatékossággal élő emberek világnapja 2021: stratégiai megállapodás a megváltozott munkaképességűek foglalkoztatásáért
DESCRIPTION:Európában Magyarországon van a legnagyobb különbség a nem megváltozott munkaképességű- és a megváltozott munkaképességű emberek foglalkoztatási arányában. Emellett Írországban\, Romániában\, Bulgáriában és Magyarországon a legnagyobb a fogyatékossággal élő emberek gazdasági inaktivitása\, így ők meg sem jelennek a munkaerőpiacon. \nEzen az arányon szeretne változtatni az euJobs HR-Group cégcsoport (euDiákok\, euJobs)\, a Nem Adom Fel Alapítvány és a Vakok és Gyengénlátók Közép-Magyarországi Regionális Egyesülete a Fogyatékossággal élő emberek világnapján aláírásra kerülő stratégiai együttműködésével. \nAz együttműködési megállapodás ünnepélyes aláírását a járványhelyzet miatt online közvetítés keretében várják az érdeklődőket és a sajtó munkatársait. \nTovábbi részletek az esemény honlapján olvashatók. \nA közlemény tartalmáért a SZIN Nonprofit Kft. felelősséget nem vállal. \n
URL:/rendezveny/a-fogyatekossaggal-elo-emberek-vilagnapja-2021-strategiai-megallapodas-a-megvaltozott-munkakepesseguek-foglalkoztatasaert/
LOCATION:Szugló u. 81.\, Budapest\, Budapest\, 1141\, Magyarország
CATEGORIES:rendezvény
END:VEVENT
END:VCALENDAR