BEGIN:VCALENDAR
VERSION:2.0
PRODID:-//efiportal.hu - ECPv4.6.16//NONSGML v1.0//EN
CALSCALE:GREGORIAN
METHOD:PUBLISH
X-WR-CALNAME:efiportal.hu
X-ORIGINAL-URL:
X-WR-CALDESC:Events for efiportal.hu
BEGIN:VEVENT
DTSTART;TZID=Europe/Budapest:20221128T140000
DTEND;TZID=Europe/Budapest:20221128T180000
DTSTAMP:20260419T153226
CREATED:20221124T140647Z
LAST-MODIFIED:20221124T140647Z
UID:303392-1669640400-1669654800@
SUMMARY:A filmkészítés kulisszatitkai – Vetítéssel egybekötött előadás Szentesen– 2022.11.28.
DESCRIPTION:A SINOSZ Szentesi Helyi Szervezete újabb érdekes programra várja az érdeklődőket. Vetítéssel egybekötött előadás keretében betekintést nyerhetnek a filmgyártás titkaiba\, megismerhetik annak folyamatát\, érdekességeit. \n\nElőadó: Talmácsi Ágnes rendezőasszisztens\nIdőpont: 2022. november 28-án\, hétfőn\, 14 órakor\nHelyszín: Szentesi Helyi Szervezet – Szentes\, Nagyörvény u. 59.\n\nA közlemény tartalmáért a SZIN Nonprofit Kft. felelősséget nem vállal. \n
URL:/rendezveny/a-filmkeszites-kulisszatitkai-vetitessel-egybekotott-eloadas-szentesen-2022-11-28/
LOCATION:Nagyörvény u. 59.\, Szentes\, Magyarország
CATEGORIES:rendezvény
END:VEVENT
END:VCALENDAR